BEGIN:VCALENDAR
VERSION:2.0
PRODID:-//wp-events-plugin.com//7.2.3.1//EN
TZID:America/Chicago
X-WR-TIMEZONE:America/Chicago
BEGIN:VEVENT
UID:0-21@blogs.uww.edu
DTSTART;TZID=America/Chicago:20250923T140000
DTEND;TZID=America/Chicago:20250923T150000
DTSTAMP:20250910T144750Z
URL:https://blogs.uww.edu/catlst/events/what-students-want-in-canvas/
SUMMARY:What Students Want in Canvas
DESCRIPTION:Register Here!\nThere are many good ways to set up a course. Th
 is training will focus on making a series of small\, easy\, and optional\,
  shifts from your current course design to a setup backed by feedback from
  student panels conducted right here at UW-Whitewater. We will focus on\n\
 n 	Matching your Assignments and Grades area to your course syllabus\n 	Re
 organizing Modules to a chronological layout\n 	Getting assignments and ta
 sks populated to student calendars\n 	Utilizing the description area of Qu
 izzes and Assignments\n\nThe goal is not to change how you teach\, just ho
 w students view the course.\n\nThere is a recording of this session avai
 lable for those that are interested.
END:VEVENT
BEGIN:VTIMEZONE
TZID:America/Chicago
X-LIC-LOCATION:America/Chicago
BEGIN:DAYLIGHT
DTSTART:20250309T030000
TZOFFSETFROM:-0600
TZOFFSETTO:-0500
TZNAME:CDT
END:DAYLIGHT
END:VTIMEZONE
END:VCALENDAR