BEGIN:VCALENDAR
VERSION:2.0
PRODID:-//wp-events-plugin.com//7.2.3.1//EN
TZID:America/Chicago
X-WR-TIMEZONE:America/Chicago
BEGIN:VEVENT
UID:0-19@blogs.uww.edu
DTSTART;TZID=America/Chicago:20250917T140000
DTEND;TZID=America/Chicago:20250917T150000
DTSTAMP:20250910T144112Z
URL:https://blogs.uww.edu/catlst/events/orientation-and-inspiration-teachi
 ng-with-ai/
SUMMARY:Orientation and Inspiration: Teaching with AI
DESCRIPTION:Register Here!\nFrom Learning to Doing: Teaching with AI Discus
 sion Series\nThe Teaching with AI course from Auburn University offers f
 aculty an in-depth\, self-paced exploration of artificial intelligence in 
 teaching and learning. This wraparound programming at UW-Whitewater builds
  on that foundation by:\n\n 	Providing local context for AI use at UW-Whit
 ewater\, including campus policies\, resources\, and student perspectives.
 \n 	Creating a collaborative space where faculty can share ideas\, trouble
 shoot challenges\, and learn from peers across disciplines.\n 	Supporting 
 practical application of course concepts through hands-on discussion and f
 eedback.\n 	Encouraging ethical and equitable adoption of AI that aligns w
 ith our institutional values and student success goals.\n\nOrientation &am
 p\; Inspiration: Teaching with AI at UWW\n\nJoin us for the first sessio
 n of our Teaching with AI discussion series\, designed to complement Aub
 urn University’s self-paced course. Whether you’ve already started the
  course or are just curious about AI in teaching\, this session will set t
 he stage for your learning journey. We’ll introduce the course structure
 \, share how AI is being explored at UW-Whitewater\, and spark conversatio
 n about the opportunities and challenges ahead. Through interactive discus
 sion\, you’ll connect with colleagues\, reflect on your own goals\, and 
 leave with a clear plan for engaging with both the course and our campus
 ’s wraparound programming.
END:VEVENT
BEGIN:VTIMEZONE
TZID:America/Chicago
X-LIC-LOCATION:America/Chicago
BEGIN:DAYLIGHT
DTSTART:20250309T030000
TZOFFSETFROM:-0600
TZOFFSETTO:-0500
TZNAME:CDT
END:DAYLIGHT
END:VTIMEZONE
END:VCALENDAR