BEGIN:VCALENDAR
VERSION:2.0
PRODID:-//wp-events-plugin.com//7.2.3.1//EN
TZID:America/Chicago
X-WR-TIMEZONE:America/Chicago
BEGIN:VEVENT
UID:0-25@blogs.uww.edu
DTSTART;TZID=America/Chicago:20251007T140000
DTEND;TZID=America/Chicago:20251007T144500
DTSTAMP:20251007T152011Z
URL:https://blogs.uww.edu/catlst/events/faster-grading-with-better-feedbac
 k/
SUMMARY:Faster Grading With Better Feedback
DESCRIPTION:Register Here!\nBe prepared to edit an upcoming assessment in t
 his hands-on session. We will focus on transforming existing quiz question
 s into tools able to remediate student misconceptions\, and point them bac
 k to the relevant materials in your course. We will also go through updati
 ng rubrics to include targeted feedback about specific reasons students lo
 se points. We will also go over the new Comment Library available in Speed
 Grader.\n\nIf the time of this session does not meet your needs\, you can 
 request an individual or department consultation.\n\n&nbsp\;\n\n\n\n
END:VEVENT
BEGIN:VTIMEZONE
TZID:America/Chicago
X-LIC-LOCATION:America/Chicago
BEGIN:DAYLIGHT
DTSTART:20250309T030000
TZOFFSETFROM:-0600
TZOFFSETTO:-0500
TZNAME:CDT
END:DAYLIGHT
END:VTIMEZONE
END:VCALENDAR