BEGIN:VCALENDAR
VERSION:2.0
PRODID:-//wp-events-plugin.com//7.2.3.1//EN
TZID:America/Chicago
X-WR-TIMEZONE:America/Chicago
BEGIN:VEVENT
UID:2310-9@blogs.uww.edu
DTSTART;TZID=America/Chicago:20251008T130000
DTEND;TZID=America/Chicago:20251008T140000
DTSTAMP:20251007T153314Z
URL:https://blogs.uww.edu/catlst/events/digital-accessibility-community-of
 -practice-2025-10-08/
SUMMARY:Digital Accessibility Community of Practice
DESCRIPTION:Register Here!\nJoin a collaborative community of practice focu
 sed on enhancing digital accessibility in the classroom!\n\nThe DACoP is d
 esigned to provide instructors with the opportunity to share best practice
 s\, ask questions\, and collaborate. Experts from CATLST\, the Andersen Li
 brary\, and the Center for Students with Disabilities will be present to o
 ffer support and guidance. These sessions are beneficial for everyone\, re
 gardless of their experiences with digital accessibility. This is a judgme
 nt-free zone where all are welcome to learn and share.\n\nThese sessions w
 ill be held via WebEx.
END:VEVENT
BEGIN:VTIMEZONE
TZID:America/Chicago
X-LIC-LOCATION:America/Chicago
BEGIN:DAYLIGHT
DTSTART:20250309T030000
TZOFFSETFROM:-0600
TZOFFSETTO:-0500
TZNAME:CDT
END:DAYLIGHT
END:VTIMEZONE
END:VCALENDAR