BEGIN:VCALENDAR
VERSION:2.0
PRODID:-//wp-events-plugin.com//7.2.3.1//EN
TZID:America/Chicago
X-WR-TIMEZONE:America/Chicago
BEGIN:VEVENT
UID:0-18@blogs.uww.edu
DTSTART;TZID=America/Chicago:20250916T140000
DTEND;TZID=America/Chicago:20250916T150000
DTSTAMP:20250910T143955Z
URL:https://blogs.uww.edu/catlst/events/canvas-accessibility-remediation-t
 ools/
SUMMARY:Canvas Accessibility Remediation Tools
DESCRIPTION:Register Here!\nReady to dive into your Canvas course and make 
 gains on the federal April 2026 deadline? Don't know how to start? Worried
  about how to use the available remediation tools? We are here to help!\n\
 nBe prepared to edit an existing course in this hands-on session. We will
  focus on getting the most from TidyUp and UDOIT\, while also touching o
 n the fastest way to keep your new creations accessible.\n\nSession Outcom
 es\n\n\n 	Utilize TidyUp to identify\, and potentially remove\, unused ite
 ms.\n 	Execute course-wide accessibility scans using UDOIT to identify pot
 ential barriers and accessibility issues within a Canvas course.\n 	Interp
 ret UDOIT scan results accurately\, distinguishing between critical issues
  requiring immediate attention and suggestions for improvement.\n 	Identif
 y and remediate inaccessible design in Canvas to enhance comprehension for
  all students.\n
END:VEVENT
BEGIN:VTIMEZONE
TZID:America/Chicago
X-LIC-LOCATION:America/Chicago
BEGIN:DAYLIGHT
DTSTART:20250309T030000
TZOFFSETFROM:-0600
TZOFFSETTO:-0500
TZNAME:CDT
END:DAYLIGHT
END:VTIMEZONE
END:VCALENDAR