BEGIN:VCALENDAR
VERSION:2.0
PRODID:-//wp-events-plugin.com//7.2.3.1//EN
TZID:America/Chicago
X-WR-TIMEZONE:America/Chicago
BEGIN:VEVENT
UID:0-28@blogs.uww.edu
DTSTART;TZID=America/Chicago:20251014T140000
DTEND;TZID=America/Chicago:20251014T150000
DTSTAMP:20251007T151712Z
URL:https://blogs.uww.edu/catlst/events/better-courses-through-better-page
 s/
SUMMARY:Better Courses Through Better Pages
DESCRIPTION:Register Here!\nHave you moved past the basics of how to get co
 ntent into Canvas\, and looking for a simple way to improve the learning e
 xperience for your students? This synchronous training is meant as a suppl
 ement to our asynchronous\, self-paced resource designed to help instruc
 tors take lengthy modules\, and turn them into sleek pages.\n\nNot only is
  the content of the course about how to create more engaging pages\, it al
 so demonstrates simple steps you can take to do this with your own courses
 \, by showing the transition from a typical course design to one based on 
 a more dynamic page.\n\nIf the time of this session does not meet your nee
 ds\, you can request an individual or department consultation.
END:VEVENT
BEGIN:VTIMEZONE
TZID:America/Chicago
X-LIC-LOCATION:America/Chicago
BEGIN:DAYLIGHT
DTSTART:20250309T030000
TZOFFSETFROM:-0600
TZOFFSETTO:-0500
TZNAME:CDT
END:DAYLIGHT
END:VTIMEZONE
END:VCALENDAR