BEGIN:VCALENDAR
VERSION:2.0
PRODID:-//wp-events-plugin.com//7.2.3.1//EN
TZID:America/Chicago
X-WR-TIMEZONE:America/Chicago
BEGIN:VEVENT
UID:0-22@blogs.uww.edu
DTSTART;TZID=America/Chicago:20250924T140000
DTEND;TZID=America/Chicago:20250924T150000
DTSTAMP:20250910T145350Z
URL:https://blogs.uww.edu/catlst/events/ai-misuse-detection-and-prevention
 /
SUMMARY:AI Misuse: Detection and Prevention
DESCRIPTION:Register Here!\nThis intermediate-level workshop invites educat
 ors and administrators to examine the intersection of artificial intellige
 nce (AI) technology and academic integrity\, with a specific focus on dete
 cting AI-generated text. Participants will receive practical\, hands-on tr
 aining in using the AI detection tools currently available on campus. Thro
 ugh direct engagement with these tools\, attendees will critically evaluat
 e their accuracy\, limitations\, and potential applications within academi
 c environments. In addition\, real-world scenarios and case studies will i
 llustrate how AI detection tools can be effectively integrated into instit
 utional policies and practices to maintain the highest standards of academ
 ic integrity.\n\nSession Outcomes\n\n 	Evaluate the accuracy\, limitations
 \, and potential applications of AI detection tools\n 	Explore the ethical
  considerations associated with AI detection in educational settings\n 	De
 velop strategies to decrease incidence of AI misuse\n 	Build ethical AI us
 e into academic policies and practices\n\nBy the conclusion of this worksh
 op\, participants will have a comprehensive understanding of how to levera
 ge AI detection tools responsibly\, as well as insight into the ethical an
 d policy-related challenges posed by emerging AI technologies.
END:VEVENT
BEGIN:VTIMEZONE
TZID:America/Chicago
X-LIC-LOCATION:America/Chicago
BEGIN:DAYLIGHT
DTSTART:20250309T030000
TZOFFSETFROM:-0600
TZOFFSETTO:-0500
TZNAME:CDT
END:DAYLIGHT
END:VTIMEZONE
END:VCALENDAR