BEGIN:VCALENDAR
VERSION:2.0
PRODID:-//wp-events-plugin.com//7.2.3.1//EN
TZID:America/Chicago
X-WR-TIMEZONE:America/Chicago
BEGIN:VEVENT
UID:0-24@blogs.uww.edu
DTSTART;TZID=America/Chicago:20250929T140000
DTEND;TZID=America/Chicago:20250929T150000
DTSTAMP:20250910T145644Z
URL:https://blogs.uww.edu/catlst/events/accessibility-in-action-digital-ac
 cessibility-101/
SUMMARY:Accessibility in Action | Digital Accessibility 101
DESCRIPTION:Register Here!\nLearn about Digital Accessibility basics and ho
 w to apply them to your course materials. The workshop will cover high-imp
 act practices that improve digital accessibility and how you can incorpora
 te these guidelines into course materials. We will discuss font\, color co
 ntrast\, headings\, alternative text\, links\, lists\, tables\, captioning
 \, and transcription.\nSession Outcomes\n\n 	Identify and remediate inacce
 ssible design in course materials to enhance comprehension for all student
 s.\n 	Evaluate existing course materials using accessibility-checking tool
 s and guidelines to identify potential barriers and areas for improvement.
 \n\nParticipants are encouraged to bring in their laptops or tablets.
END:VEVENT
BEGIN:VTIMEZONE
TZID:America/Chicago
X-LIC-LOCATION:America/Chicago
BEGIN:DAYLIGHT
DTSTART:20250309T030000
TZOFFSETFROM:-0600
TZOFFSETTO:-0500
TZNAME:CDT
END:DAYLIGHT
END:VTIMEZONE
END:VCALENDAR