BEGIN:VCALENDAR
VERSION:2.0
PRODID:-//wp-events-plugin.com//7.2.3.1//EN
TZID:America/Chicago
X-WR-TIMEZONE:America/Chicago
BEGIN:VEVENT
UID:0-23@blogs.uww.edu
DTSTART;TZID=America/Chicago:20250925T140000
DTEND;TZID=America/Chicago:20250925T150000
DTSTAMP:20250910T145507Z
URL:https://blogs.uww.edu/catlst/events/accessibility-in-action-design-acc
 essible-data/
SUMMARY:Accessibility in Action | Design Accessible Data
DESCRIPTION:Register Here!\nLearn how to integrate accessible equations\, c
 harts\, tables\, and graphs into your course materials\, including documen
 ts\, lecture slides\, and Canvas pages. Session topics include writing equ
 ations with LaTeX in Canvas\, designing perceivable charts\, tables\, and 
 graphs\, and writing alt text and image descriptions for complex images. B
 eginning with the basics of designing perceivable data\, the workshop will
  conclude with an optional open lab\, allowing participants to work on the
 ir courses with CATLST experts.\nSession Outcomes\nAfter completing this w
 orkshop\, participants will be able to:\n\n 	Create perceivable charts\, t
 ables\, and graphs by using accessible formatting\, labels\, and structure
 s.\n 	Write effective alt text and descriptions for complex images\, inclu
 ding data visualizations.\n 	Evaluate existing course materials (documents
 \, lecture slides\, and Canvas pages) for accessibility barriers related t
 o data representation.\n 	Identify features in Canvas that support the dis
 play of accessible equations using LaTeX.\n\nParticipants are encouraged t
 o bring in their laptops or tablets.
END:VEVENT
BEGIN:VTIMEZONE
TZID:America/Chicago
X-LIC-LOCATION:America/Chicago
BEGIN:DAYLIGHT
DTSTART:20250309T030000
TZOFFSETFROM:-0600
TZOFFSETTO:-0500
TZNAME:CDT
END:DAYLIGHT
END:VTIMEZONE
END:VCALENDAR