BEGIN:VCALENDAR
VERSION:2.0
PRODID:-//wp-events-plugin.com//7.2.3.1//EN
TZID:America/Chicago
X-WR-TIMEZONE:America/Chicago
BEGIN:VEVENT
UID:0-17@blogs.uww.edu
DTSTART;TZID=America/Chicago:20250915T140000
DTEND;TZID=America/Chicago:20250915T150000
DTSTAMP:20250910T143738Z
URL:https://blogs.uww.edu/catlst/events/accessibility-in-action-canvas-pag
 es/
SUMMARY:Accessibility in Action | Canvas Pages
DESCRIPTION:Register Here!\nEnsure your Canvas course(s) meet(s) accessibil
 ity standards through practice. The workshop will begin with an introducti
 on to the basics of layout\, alt text\, descriptive hyperlinks\, color con
 trast\, lists\, and headings. We will also discuss how the Canvas Accessib
 ility Checker can help you develop and check for digital accessibility in 
 your course. The workshop will conclude with an optional open lab\, allowi
 ng participants to work on their courses with CATLST experts.\nSession Out
 comes\nAfter completing this workshop\, participants will be able to:\n\n 
 	Identify key accessibility features in Canvas\, including layout\, headin
 gs\, lists\, color contrast\, alt text\, and descriptive hyperlinks\, in a
 lignment with WCAG 2.1 AA standards.\n 	Organize course content using head
 ings\, lists\, and layout tools so materials are easier to navigate.\n 	In
 tegrate accessibility considerations into the regular course development w
 orkflow to proactively address potential barriers.\n 	Utilize the Canvas A
 ccessibility Checker effectively to identify and resolve common accessibil
 ity issues within course content.\n\nParticipants are encouraged to bring 
 in their laptops or tablets.
END:VEVENT
BEGIN:VTIMEZONE
TZID:America/Chicago
X-LIC-LOCATION:America/Chicago
BEGIN:DAYLIGHT
DTSTART:20250309T030000
TZOFFSETFROM:-0600
TZOFFSETTO:-0500
TZNAME:CDT
END:DAYLIGHT
END:VTIMEZONE
END:VCALENDAR